BEGIN:VCALENDAR
VERSION:2.0
PRODID:-//eventon.com NONSGML v1.0//EN
BEGIN:VEVENT
UID:69e8a4bcb5160
DTSTAMP:20260422T103644
DTSTART:20260414T233000Z
DTEND:20260415T010000Z
TZID:America/Chicago
LOCATION:TBA 
SUMMARY:lHS Monthly Meeting
DESCRIPTION: lHS Monthly Meeting\nhttps://lelandhistory.org/events/lhs-monthly-meeting/var/ri-75.l-L1
URL:https://lelandhistory.org/events/lhs-monthly-meeting/var/ri-75.l-L1
END:VEVENT
END:VCALENDAR